Workbook

Sheet Informations
B2: Inscriptions le Mardi 29 septembre et le Vendredi 9 octobre 2026 à la piscine
A5: Grille des tarifs FFESSM :
A6: https://ffessm.fr/uploads/media/docs/0001/13/20548bfbd889f2b343600ec7868b6a87da89316d.pdf
A8: Assurances :
A9: La licence fédérale vous couvre en termes de responsabilité civile et défense recours pour les dommages que vous êtes susceptible de provoquer à un tiers durant votre pratique.
A10: Pour vous couvrir personnellement (frais d’assistance, de rapatriement…) il est nécessaire de contracter une assurance individuelle (catégorie Loisir 1, 2, 3…) ou de s’assurer que son assurance personnelle (Familiale, Multi Risques Habitation, autre) couvre tous les risques liés à la plongée. Le club inclut automatiquement la loisirs 2 (plongée) ou la piscine (Nage avec palmes) dans la cotisation. Pour plus d’informations, consulter le site de l’assureur de la FFESSM : https://ffessm.fr/gerer/assurance pour toute information supplémentaire ou changement en cours d’année, contacter Axa Assurance Plongée au 04 68 35 22 26.
A12: Adhésion :
A13: Le club délivrera une licence fédérale 2026/2027, si vous avez plus de 14 ans et si vous envoyer par mail principalement les pièces suivantes remplies, contenu dans ce dossier, à secretariatriomsubaquatique@gmail.com
A14: Ø La fiche d’inscription du club dûment remplie remise sous format numérique ou papier. Ne pas oublier de cocher les formations demandées.
A15: Ø La fiche d'autorisation dûment remplie
A16: Ø Le Certificat médical d’Absence de Contre-Indication (CACI) à la pratique des activités subaquatiques à joindre en format PDF.
A17: Ø Le montant de la cotisation et de l’assurance par virement direct de préférence . Pour tout autre moyen de paiement veuillez consulter le trésorier du club.
B19: Cotisation club + License + Assurance Loisir 2 (28,85€) ou piscine (13,40€) | D19: Assurance complémentaire
B20: Adulte Plongeur | C20: 230 | D20: Loisir 2 (par défaut) | E20: 0
B21: -16ans / étudiant plongeur | C21: 190 | D21: Loisir 3 | E21: 20.6
B22: Couple plongeur | C22: 420 | D22: Loisir Top1 | E22: 17.5
B23: Adulte NAP | C23: 135 | D23: Loisir Top2 | E23: 28.85
B24: -16ans / étudiant NAP | C24: 120 | D24: Loisir Top3 | E24: 65.95
B25: Membre actif non pratiquant
B26: Aucune | C26: 0
B27: Droit d'entrée non pratiquant | C27: 15
B28: Badge entrée piscine | C28: 2.3
A32: Mécénat d'association
A34: Faire un don à notre association RIOM SUBAQUATIQUE qui nous permettra d'acheter ou de maintenir le matériel et de participer à la vie associative du club et vous permettra d'obtenir une réduction d'impot de 60% de la somme versée.
A36: Horaires et lieu d’entrainement :
A37: Le mardi soir de 20h30 à 22h00 et le vendredi soir de 20h à 22h00 à la piscine Béatrice Heiss de Riom.
A38: Des dates de fosses vous seront indiquées par vos moniteurs, elles seront payables à l’inscription et non remboursables à moins d’avoir trouvé un remplaçant.
A40: Edition de carte lors de l’obtention de niveau ou de spécialisation ou réédition en cas de perte : Lors de l’obtention d’un niveau ou d’une spécialisation, le club vous enregistre sur le site de la FFESSM, la fédération édite une carte que vous recevrez à votre domicile. Tarif FFESSM : Edition 16€/Réédition 20€
A41: Sécurité
A42: RIFAP : Obligatoire pour le passage niveau 3 .
A43: Recyclage PSC/O2 obligatoire tous les ans pour tous les moniteurs et surveillants de bassin

Sheet Inscription
O2: NIVEAU | P2: Encadrement | Q2: Sécurité | R2: Autre | AC2: N° de licence | AD2: Nom | AE2: Prénom | AF2: Adresse | AG2: Date de naissance | AH2: Ville de naissance | AI2: Département de naissance | AJ2: Tel Portable | AK2: Email | AL2: Date CACI | AM2: Niveau de plongée | AN2: Activité Souhaitée | AO2: Plongée Scaphandre | AP2: Encadrement | AQ2: Sécurité | AR2: Autre | AS2: Nom 2 | AT2: Prénom 2 | AU2: Email 2 | AV2: Tel Portable 2 | AW2: Attestation | AX2: Niveau | AY2: Date de Diplôme | AZ2: Souhait d'encadrement | BA2: Assurance complémentaire | BB2: Du
O3: Aucun | P3: Aucun | Q3: Aucun | R3: Aucun | AC3: =IF($D$13<>"",$D$13,"") | AD3: =IF($D$15<>"",$D$15,"") | AE3: =IF($H$15<>"",$H$15,"") | AF3: =IF($D$16<>"",$D$16,"") | AG3: =IF($D$17<>"",$D$17,"") | AH3: =IF($H$17<>"",$H$17,"") | AI3: =IF($H$18<>"",$H$18,"") | AJ3: =IF($D$18<>"",$D$18,"") | AK3: =IF($D$19<>"",$D$19,"") | AL3: =IF($H$13<>"",$H$13,"") | AM3: =IF($D$14<>"",$D$14,"") | AN3: =IF($B$22<>"",IF($B$22=1,"Plongée Scaphandre",IF($B$22=2,"Nage libre",IF($B$22=3,"Membre actif non pratiquant FFESSM",""))),"") | AO3: =IF($E$27<>"",$E$27,"") | AP3: =IF($H$27<>"",$H$27,"") | AQ3: =IF($E$29<>"",$E$29,"") -> Aucun | AR3: =IF($H$29<>"",$H$29,"") | AS3: =IF($D$32<>"",$D$32,"") | AT3: =IF($H$32<>"",$H$32,"") | AU3: =IF($D$33<>"",$D$33,"") | AV3: =IF($H$33<>"",$H$33,"") | AW3: =IF($B$36<>"",IF($B$36=1,"oui","non"),"") | AX3: =IF($D$41<>"",$D$41,"") | AY3: =IF($H$41<>"",$H$41,"") | AZ3: =IF($G$43<>"",IF($G$43=1,"OUI","NON"),"") | BA3: =IF(#REF!<>"","Loisir 3",IF(#REF!<>"","Loisir TOP1",IF(#REF!<>""," Loisir TOP2",IF(#REF!<>0,"Loisir TOP3","NON")))) -> #REF! | BB3: =IF(#REF!<>0,#REF!, "") -> #REF!
O4: Niv 1 | P4: Initiateur | Q4: PSC | R4: NITROX | AC4: Form
O5: Niv 2 | P5: MF1 | Q5: RIFAP | R5: Photo | AC5: =IF(AND(AC3<>"",AD3<>"",AG3<>"",AJ3<>"",AK3<>""),1,0) -> 0
O6: Niv 3 | P6: MF2 | Q6: Recyclage PSC | R6: Archeo
O7: Niv 4 | Q7: Recyclage RIFAP | R7: TRIMIX
B8: BULLETIN INDIVIDUEL D’INSCRIPTION RIOMSUBAQUATIQUE (14 ans minimum) | O8: Niv 5 | R8: Combinaison Etanche
B9: SAISON 2026/2027 | O9: MF1
B10: Les informations contenues sur cette fiche d’inscription seront communiquées aux membres du bureau, au directeur technique et aux moniteurs responsables de votre formation. | O10: MF2
B13: N° de licence : | F13: Date du CACI :
B14: Niveau de plongée :
B15: Nom : | G15: Prénom :
B16: Adresse :
B17: Date de naissance : | F17: Ville de naissance
B18: Tél. Portable : | F18: Departement de naissance :
B19: Email :
B21: Activité souhaitée
B23: 3
B25: Formation souhaitée
B27: Plongée Scaphandre : | F27: Encadrement :
D29: Sécurité * : | E29: Aucun | G29: Autre :
B31: Personne à Prévenir en cas d’urgence :
B32: Nom : | G32: Prénom :
B33: Email : | G33: Portable :
C35: Souhaitez-vous une attestation d’inscription pour votre comité d’entreprise ?
E36: (Si oui document Attestation )
B39: Encadrant
C41: Niveau : | F41: date de diplôme :
C43: Je m'engage à encadrer :

Sheet CACI
J1: Fichier à télécharger :

Sheet Autorisations
A4: DROIT A L’IMAGE
A6: 3 | C6: autorise l’Association RIOM SUBAQUATIQUE à me photographier ou me filmer dans le cadre des différents événements ou activités que l'Association organise. J’accepte l’utilisation et l’exploitation non commerciale de mon image dans le cadre de la promotion de l'Association, notamment sur le site internet de l’Association, ainsi que sa reproduction sur quelque support que ce soit (papier, support analogique ou support numérique) actuel ou futur et ce, pour la durée de vie des documents réalisés ou de l'Association. En conséquence de quoi, je renonce expressément à me prévaloir d’un quelconque droit à l’image et à toute action à l’encontre de RIOM SUBAQUATIQUE qui trouverait son origine dans l’exploitation de mon image dans le cadre précité. En contrepartie RIOM SUBAQUATIQUE s'engage à respecter l'image et à ne l'utiliser que dans le cadre précédemment défini.
B7: ou
C8: Pour la photo/la vidéo, etc. je demande à ce que mon visage soit flouté.
A12: RGPD (Règlement général pour la protection des données) | B12: RGPD (Règlement général pour la protection des données)
A14: Les Nom, prénom, adresse mail, numéro de téléphone, adresse postale, année de naissance. sont recueillies avec votre accord dans le cadre suivant :
A16: Finalités du traitement : ces données sont recueillies en vue de tenir à jour notre fichier d’adhérents, permettre d’obtenir votre affiliation à la FFESSM et si vous le souhaitez (c'est-à-dire si vous avez coché la case l’acceptant), recevoir notre newsletter ; en aucun cas ces données ne seront cédées ou vendues à des tiers.
A17: Responsable du traitement : secrétaire RIOM SUBAQUATIQUE
A18: Destinataire des données : Les membres du bureau et encadrants ont accès à vos données dans le cadre de leurs missions respectives. La FFESSM et le Cabinet Laffont (assureur de la FFESSM) ont accès à vos données dans le cadre de leur missions respectives.
A19: Droit d’accès et de rectification : vous pouvez, en vertu du Règlement européen sur la protection des données personnelles, en vigueur depuis le 25/05/2018, avoir accès aux données vous concernant ; vous pouvez demander leur rectification et leur suppression. Ces démarches s’effectuent auprès de secrétaire RIOM SUBAQUATIQUE - riomsub.fr
A20: Conservation des données : Pour Riom subaquatique, les données sont conservées jusqu’à un an après la fin de votre adhésion. Pour la FFESSM, les données sont conservées à vie.
A21: Transmission des données à un tiers :
E23: Autorise RIOM SUBAQUATIQUE à transmettre mes données à la FFESSM afin d'obtenir une licence
E26: Autorise RIOM SUBAQUATIQUE à recuillir et conserver mes données en vues de maintenir le fichier adhérents
A29: Pour aller plus loin : https://www.cnil.fr/fr
A33: Règlement Adhésion Riom subaquatique
A35: Le Club Riom subaquatique est un club de bénévoles, affilié à la Fédération Française d’Etudes et de Sports Sous‐marins (FFESSM) qui définit les normes de sécurité et de pratiques de la plongée (code du sport arrêté du 05 Janvier 2012 modifié le 06 Avril 2012).
C36: Je m'engage à respecter :
D37: le règlement intérieur de la piscine Béatrice Heiss
D38: le règlement intérieur de Clermont-Métropole (utilisation de la fosse)
D39: le règlement intérieur du Club Riom subaquatique
D40: que les activités ne débutent qu’en présence d’un encadrant et d’un surveillant de bassin responsable de la surveillance de l’activité
D41: que toute pratique nécessite une surveillance, donc ne se pratique jamais seul
A45: Informations assurances *
D47: Je reconnais avoir été informé de l'existence des différents contrats d’assurance complémentaires proposés par la société AXA Assurance que l'on retrouve sur le site
D48: https://ffessm.lafont-assurances.com
A52: Autorisation Responsable Légal pour les mineurs ou majeurs protégés
A53: J'autorise
C55: Plongeur encadré 12m (PE12*) à partir de 10 ans
C56: Plongeur encadré 20m (PE20*) à partir de 12 ans (niveau 1)
C57: Plongeur encadré 40m (PE40*) à partir de 14 ans
C58: Plongeur autonome 12 m (PA12*) ou 20m (PA20*) à partir de 16 ans
C59: Plongeur autonome 40m (PA40*) à partir de 17 ans
B61: A participer aux activités de plongée subaquatique, notamment en scaphandre, au sein de cette structure affiliée ou agréée à la FFESSM. Je suis informé que dans le cadre des prérogatives de plongeur PA12*, PA20* ou PA40*, le mineur peut-être autorisé par le Directeur de plongée à évoluer en autonomie (sans encadrement) en palanquée en partage de responsabilité avec d’autres plongeurs de même niveau.
A63: La plongée Jeune en scaphandre se fait dans une adaptation prudente et progressive à la profondeur par les encadrants avec une approche individualisée selon les conseils de la Commission Technique Nationale. L’optimisation pour les encadrants des conditions de la plongée des jeunes repose sur les conseils de la Commission Médicale et de Prévention nationale de la Fédération Française d’Études et de Sports Sous-Marins.
A65: Vous pouvez prendre connaissance de ces conseils en matière de plongée pour les jeunes sur :
A66: https://medical.ffessm.fr/actualites/jeunes-plongeurs-et-profondeurs
A71: Adhésion * | D71: Licesnse
C72: Type de license | G72: =VLOOKUP(E72,Informations!B20:C24,2,FALSE) -> #N/A
C74: Option | G74: =VLOOKUP(E74,Informations!B26:C28,2,FALSE) -> #N/A
...

Sheet Attestation
A9: ATTESTATION D’AFFILIATION AU CLUB RIOM SUBAQUATIQUE
A11: Je soussigné, Madame Aude CORREC, Présidente du club de plongée RIOM SUBAQUATIQUE, certifie que :
B12: M | C12: =IF(Inscription!D15<>"",Inscription!D15&" "&Inscription!H15,"")
B13: Né(e) le | C13: =IF(Inscription!D17<>"",Inscription!D17,"")
B14: Sis(e) au | C14: =IF(Inscription!D16<>"",Inscription!D16,"")
A15: Est inscrit au club RIOM SUBAQUATIQUE pour la saison 2026/2027.
A16: Fédération de rattachement : Fédération Française d’Etude et de Sports Sous‐Marins (FFESSM)
A18: Le montant de sa cotisation s’élève à | E18: =Autorisations!G80 -> #N/A
A20: Fait à RIOM le | E20: Aude CORREC
E21: Présidente,
D25: Pour, | E25: Corinne DEBAIN ou Olivier Ducrotoy
E26: Secrétaires
C28: Signature et cachet du club obligatoire
